BEGIN:VCALENDAR
VERSION:2.0
PRODID:-//mWEB//NONSGML mWEB//NB
URL:https://www.beroa.no/kalender/ics
X-WR-CALNAME:Berøa Langåker
REFRESH-INTERVAL;VALUE=DURATION:PT6H
X-PUBLISHED-TTL:PT6H    
CALSCALE:GREGORIAN
BEGIN:VEVENT
UID:beroa.no-2828
DTSTAMP:20260423T233341Z
DTSTART:20241108T183000Z
DTEND:20241108T200000Z
URL:https://www.beroa.no/kalender/2024/11/08/mote-tale-av-eivind-fla-sang-av-bjorg-helena-tangen/2828/
CREATED:20231005T155653Z
LAST-MODIFIED:20240929T155318Z
SUMMARY:Møte. Tale av Eivind Flå. Sang av Bjørg Helena Tangen.
DESCRIPTION:\n\nhttps://www.beroa.no/kalender/2024/11/08/mote-tale-av-eivind-fla-sang-av-bjorg-helena-tangen/2828/
END:VEVENT

END:VCALENDAR