BEGIN:VCALENDAR
VERSION:2.0
PRODID:-//mWEB//NONSGML mWEB//NB
URL:https://www.beroa.no/kalender/ics
X-WR-CALNAME:Berøa Langåker
REFRESH-INTERVAL;VALUE=DURATION:PT6H
X-PUBLISHED-TTL:PT6H    
CALSCALE:GREGORIAN
BEGIN:VEVENT
UID:beroa.no-2960
DTSTAMP:20260423T233135Z
DTSTART:20241109T200000Z
DTEND:20241109T213000Z
URL:https://www.beroa.no/kalender/2024/11/09/felles-ungdomstreff-beroa/2960/
CREATED:20240310T213416Z
LAST-MODIFIED:20240429T085323Z
SUMMARY:Felles ungdomstreff (Berøa)
DESCRIPTION:\n\nhttps://www.beroa.no/kalender/2024/11/09/felles-ungdomstreff-beroa/2960/
END:VEVENT

END:VCALENDAR