BEGIN:VCALENDAR
VERSION:2.0
PRODID:-//mWEB//NONSGML mWEB//NB
URL:https://www.beroa.no/kalender/ics
X-WR-CALNAME:Berøa Langåker
REFRESH-INTERVAL;VALUE=DURATION:PT6H
X-PUBLISHED-TTL:PT6H    
CALSCALE:GREGORIAN
BEGIN:VEVENT
UID:beroa.no-2829
DTSTAMP:20260423T231304Z
DTSTART:20241109T180000Z
DTEND:20241109T193000Z
URL:https://www.beroa.no/kalender/2024/11/09/mote-tale-av-eivind-fla/2829/
CREATED:20231005T155721Z
LAST-MODIFIED:20231005T155722Z
SUMMARY:Møte. Tale av Eivind Flå
DESCRIPTION:\n\nhttps://www.beroa.no/kalender/2024/11/09/mote-tale-av-eivind-fla/2829/
END:VEVENT

END:VCALENDAR