BEGIN:VCALENDAR
VERSION:2.0
PRODID:-//mWEB//NONSGML mWEB//NB
URL:https://www.beroa.no/kalender/ics
X-WR-CALNAME:Berøa Langåker
REFRESH-INTERVAL;VALUE=DURATION:PT6H
X-PUBLISHED-TTL:PT6H    
CALSCALE:GREGORIAN
BEGIN:VEVENT
UID:beroa.no-2830
DTSTAMP:20260423T233435Z
DTSTART:20241110T100000Z
DTEND:20241110T113000Z
URL:https://www.beroa.no/kalender/2024/11/10/mote-tale-av-eivind-fla-lovsangsteamet-blir-med/2830/
CREATED:20231005T155751Z
LAST-MODIFIED:20240929T155352Z
SUMMARY:Møte. Tale av Eivind Flå. Lovsangsteamet blir med.
DESCRIPTION:\n\nhttps://www.beroa.no/kalender/2024/11/10/mote-tale-av-eivind-fla-lovsangsteamet-blir-med/2830/
END:VEVENT

END:VCALENDAR