BEGIN:VCALENDAR
VERSION:2.0
PRODID:-//mWEB//NONSGML mWEB//NB
URL:https://www.beroa.no/kalender/ics
X-WR-CALNAME:Berøa Langåker
REFRESH-INTERVAL;VALUE=DURATION:PT6H
X-PUBLISHED-TTL:PT6H    
CALSCALE:GREGORIAN
BEGIN:VEVENT
UID:beroa.no-3059
DTSTAMP:20260423T231706Z
DTSTART:20241112T183000Z
DTEND:20241112T200000Z
URL:https://www.beroa.no/kalender/2024/11/12/bonnesamling/3059/
CREATED:20241005T092258Z
LAST-MODIFIED:20241005T092259Z
SUMMARY:Bønnesamling
DESCRIPTION:\n\nhttps://www.beroa.no/kalender/2024/11/12/bonnesamling/3059/
END:VEVENT

END:VCALENDAR