BEGIN:VCALENDAR
VERSION:2.0
PRODID:-//mWEB//NONSGML mWEB//NB
URL:https://www.beroa.no/kalender/ics
X-WR-CALNAME:Berøa Langåker
REFRESH-INTERVAL;VALUE=DURATION:PT6H
X-PUBLISHED-TTL:PT6H    
CALSCALE:GREGORIAN
BEGIN:VEVENT
UID:beroa.no-3051
DTSTAMP:20260423T230648Z
DTSTART:20241117T183000Z
DTEND:20241117T200000Z
URL:https://www.beroa.no/kalender/2024/11/17/brodsbrytelse/3051/
CREATED:20240830T163454Z
LAST-MODIFIED:20240830T163455Z
SUMMARY:Brødsbrytelse
DESCRIPTION:\n\nhttps://www.beroa.no/kalender/2024/11/17/brodsbrytelse/3051/
END:VEVENT

END:VCALENDAR