BEGIN:VCALENDAR
VERSION:2.0
PRODID:-//mWEB//NONSGML mWEB//NB
URL:https://www.beroa.no/kalender/ics
X-WR-CALNAME:Berøa Langåker
REFRESH-INTERVAL;VALUE=DURATION:PT6H
X-PUBLISHED-TTL:PT6H    
CALSCALE:GREGORIAN
BEGIN:VEVENT
UID:beroa.no-3060
DTSTAMP:20260423T230648Z
DTSTART:20241119T183000Z
DTEND:20241119T200000Z
URL:https://www.beroa.no/kalender/2024/11/19/bonnesamling/3060/
CREATED:20241005T092315Z
LAST-MODIFIED:20241005T092316Z
SUMMARY:Bønnesamling
DESCRIPTION:\n\nhttps://www.beroa.no/kalender/2024/11/19/bonnesamling/3060/
END:VEVENT

END:VCALENDAR