BEGIN:VCALENDAR
VERSION:2.0
PRODID:-//mWEB//NONSGML mWEB//NB
URL:https://www.beroa.no/kalender/ics
X-WR-CALNAME:Berøa Langåker
REFRESH-INTERVAL;VALUE=DURATION:PT6H
X-PUBLISHED-TTL:PT6H    
CALSCALE:GREGORIAN
BEGIN:VEVENT
UID:beroa.no-3064
DTSTAMP:20260423T230522Z
DTSTART:20241121T183000Z
DTEND:20241121T200000Z
URL:https://www.beroa.no/kalender/2024/11/21/bibellesning/3064/
CREATED:20241005T092503Z
LAST-MODIFIED:20241005T092504Z
SUMMARY:Bibellesning
DESCRIPTION:\n\nhttps://www.beroa.no/kalender/2024/11/21/bibellesning/3064/
END:VEVENT

END:VCALENDAR