BEGIN:VCALENDAR
VERSION:2.0
PRODID:-//mWEB//NONSGML mWEB//NB
URL:https://www.beroa.no/kalender/ics
X-WR-CALNAME:Berøa Langåker
REFRESH-INTERVAL;VALUE=DURATION:PT6H
X-PUBLISHED-TTL:PT6H    
CALSCALE:GREGORIAN
BEGIN:VEVENT
UID:beroa.no-2998
DTSTAMP:20260423T233612Z
DTSTART:20241122T183000Z
DTEND:20241122T200000Z
URL:https://www.beroa.no/kalender/2024/11/22/mote-med-elieserlaget-tale-av-svein-helge-bergfjord-torsteinsbo-sang-av-vku-lovsangsteam/2998/
CREATED:20240523T161643Z
LAST-MODIFIED:20241001T152341Z
SUMMARY:Møte med Elieserlaget. Tale av Svein Helge Bergfjord Torsteinsbø. Sang av VKU lovsangsteam.
DESCRIPTION:\n\nhttps://www.beroa.no/kalender/2024/11/22/mote-med-elieserlaget-tale-av-svein-helge-bergfjord-torsteinsbo-sang-av-vku-lovsangsteam/2998/
END:VEVENT

END:VCALENDAR