BEGIN:VCALENDAR
VERSION:2.0
PRODID:-//mWEB//NONSGML mWEB//NB
URL:https://www.beroa.no/kalender/ics
X-WR-CALNAME:Berøa Langåker
REFRESH-INTERVAL;VALUE=DURATION:PT6H
X-PUBLISHED-TTL:PT6H    
CALSCALE:GREGORIAN
BEGIN:VEVENT
UID:beroa.no-2930
DTSTAMP:20260423T233308Z
DTSTART:20241123T190000Z
DTEND:20241123T203000Z
URL:https://www.beroa.no/kalender/2024/11/23/ungdomsmote-betania/2930/
CREATED:20240220T123507Z
LAST-MODIFIED:20240220T123507Z
SUMMARY:Ungdomsmøte Betania
DESCRIPTION:\n\nhttps://www.beroa.no/kalender/2024/11/23/ungdomsmote-betania/2930/
END:VEVENT

END:VCALENDAR