BEGIN:VCALENDAR
VERSION:2.0
PRODID:-//mWEB//NONSGML mWEB//NB
URL:https://www.beroa.no/kalender/ics
X-WR-CALNAME:Berøa Langåker
REFRESH-INTERVAL;VALUE=DURATION:PT6H
X-PUBLISHED-TTL:PT6H    
CALSCALE:GREGORIAN
BEGIN:VEVENT
UID:beroa.no-3000
DTSTAMP:20260423T233612Z
DTSTART:20241124T100000Z
DTEND:20241124T113000Z
URL:https://www.beroa.no/kalender/2024/11/24/mote-med-elieserlaget-tale-av-svein-helge-bergfjord-torsteinsbo-lovsangsteamet-blir-med/3000/
CREATED:20240523T161708Z
LAST-MODIFIED:20240929T155229Z
SUMMARY:Møte med Elieserlaget. Tale av Svein Helge Bergfjord Torsteinsbø. Lovsangsteamet blir med.
DESCRIPTION:\n\nhttps://www.beroa.no/kalender/2024/11/24/mote-med-elieserlaget-tale-av-svein-helge-bergfjord-torsteinsbo-lovsangsteamet-blir-med/3000/
END:VEVENT

END:VCALENDAR