BEGIN:VCALENDAR
VERSION:2.0
PRODID:-//mWEB//NONSGML mWEB//NB
URL:https://www.beroa.no/kalender/ics
X-WR-CALNAME:Berøa Langåker
REFRESH-INTERVAL;VALUE=DURATION:PT6H
X-PUBLISHED-TTL:PT6H    
CALSCALE:GREGORIAN
BEGIN:VEVENT
UID:beroa.no-3061
DTSTAMP:20260423T232840Z
DTSTART:20241126T183000Z
DTEND:20241126T200000Z
URL:https://www.beroa.no/kalender/2024/11/26/bonnesamling/3061/
CREATED:20241005T092333Z
LAST-MODIFIED:20241005T092334Z
SUMMARY:Bønnesamling
DESCRIPTION:\n\nhttps://www.beroa.no/kalender/2024/11/26/bonnesamling/3061/
END:VEVENT

END:VCALENDAR