BEGIN:VCALENDAR
VERSION:2.0
PRODID:-//mWEB//NONSGML mWEB//NB
URL:https://www.beroa.no/kalender/ics
X-WR-CALNAME:Berøa Langåker
REFRESH-INTERVAL;VALUE=DURATION:PT6H
X-PUBLISHED-TTL:PT6H    
CALSCALE:GREGORIAN
BEGIN:VEVENT
UID:beroa.no-3035
DTSTAMP:20260423T233026Z
DTSTART:20241127T190000Z
DTEND:20241127T203000Z
URL:https://www.beroa.no/kalender/2024/11/27/elieserlaget/3035/
CREATED:20240829T163417Z
LAST-MODIFIED:20240829T163418Z
SUMMARY:Elieserlaget
DESCRIPTION:\n\nhttps://www.beroa.no/kalender/2024/11/27/elieserlaget/3035/
END:VEVENT

END:VCALENDAR