BEGIN:VCALENDAR
VERSION:2.0
PRODID:-//mWEB//NONSGML mWEB//NB
URL:https://www.beroa.no/kalender/ics
X-WR-CALNAME:Berøa Langåker
REFRESH-INTERVAL;VALUE=DURATION:PT6H
X-PUBLISHED-TTL:PT6H    
CALSCALE:GREGORIAN
BEGIN:VEVENT
UID:beroa.no-3065
DTSTAMP:20260423T232627Z
DTSTART:20241128T183000Z
DTEND:20241128T200000Z
URL:https://www.beroa.no/kalender/2024/11/28/bibellesning/3065/
CREATED:20241005T092519Z
LAST-MODIFIED:20241005T092520Z
SUMMARY:Bibellesning
DESCRIPTION:\n\nhttps://www.beroa.no/kalender/2024/11/28/bibellesning/3065/
END:VEVENT

END:VCALENDAR