BEGIN:VCALENDAR
VERSION:2.0
PRODID:-//mWEB//NONSGML mWEB//NB
URL:https://www.beroa.no/kalender/ics
X-WR-CALNAME:Berøa Langåker
REFRESH-INTERVAL;VALUE=DURATION:PT6H
X-PUBLISHED-TTL:PT6H    
CALSCALE:GREGORIAN
BEGIN:VEVENT
UID:beroa.no-3057
DTSTAMP:20260423T233309Z
DTSTART:20241130T090000Z
DTEND:20241130T103000Z
URL:https://www.beroa.no/kalender/2024/11/30/10-13-klubben-juleverksted/3057/
CREATED:20241002T190635Z
LAST-MODIFIED:20241126T155325Z
SUMMARY:10-13 klubben - Juleverksted
DESCRIPTION:\n\nhttps://www.beroa.no/kalender/2024/11/30/10-13-klubben-juleverksted/3057/
END:VEVENT

END:VCALENDAR