BEGIN:VCALENDAR
VERSION:2.0
PRODID:-//mWEB//NONSGML mWEB//NB
URL:https://www.beroa.no/kalender/ics
X-WR-CALNAME:Berøa Langåker
REFRESH-INTERVAL;VALUE=DURATION:PT6H
X-PUBLISHED-TTL:PT6H    
CALSCALE:GREGORIAN
BEGIN:VEVENT
UID:beroa.no-3026
DTSTAMP:20260423T233436Z
DTSTART:20241130T190000Z
DTEND:20241130T203000Z
URL:https://www.beroa.no/kalender/2024/11/30/zennep-beroaung-julebord/3026/
CREATED:20240813T131956Z
LAST-MODIFIED:20241110T215344Z
SUMMARY:Zennep / BerøaUng julebord
DESCRIPTION:\n\n\nhttps://www.beroa.no/kalender/2024/11/30/zennep-beroaung-julebord/3026/
END:VEVENT

END:VCALENDAR