BEGIN:VCALENDAR
VERSION:2.0
PRODID:-//mWEB//NONSGML mWEB//NB
URL:https://www.beroa.no/kalender/ics
X-WR-CALNAME:Berøa Langåker
REFRESH-INTERVAL;VALUE=DURATION:PT6H
X-PUBLISHED-TTL:PT6H    
CALSCALE:GREGORIAN
BEGIN:VEVENT
UID:beroa.no-3076
DTSTAMP:20260423T202456Z
DTSTART:20241201T183000Z
DTEND:20241201T200000Z
URL:https://www.beroa.no/kalender/2024/12/01/mote-tale-av-david-sjoen-tema-vi-sa-hans-herlighet-sang-av-tone-iren-ferkingstad/3076/
CREATED:20241020T154000Z
LAST-MODIFIED:20241128T203437Z
SUMMARY:Møte. Tale av David Sjøen. Tema: «Vi så hans herlighet». Sang av Tone Iren Ferkingstad
DESCRIPTION:\n\nhttps://www.beroa.no/kalender/2024/12/01/mote-tale-av-david-sjoen-tema-vi-sa-hans-herlighet-sang-av-tone-iren-ferkingstad/3076/
END:VEVENT

END:VCALENDAR