BEGIN:VCALENDAR
VERSION:2.0
PRODID:-//mWEB//NONSGML mWEB//NB
URL:https://www.beroa.no/kalender/ics
X-WR-CALNAME:Berøa Langåker
REFRESH-INTERVAL;VALUE=DURATION:PT6H
X-PUBLISHED-TTL:PT6H    
CALSCALE:GREGORIAN
BEGIN:VEVENT
UID:beroa.no-3129
DTSTAMP:20260423T201714Z
DTSTART:20241201T120000Z
DTEND:20241201T133000Z
URL:https://www.beroa.no/kalender/2024/12/01/priv-arr-kjelleren/3129/
CREATED:20241125T065440Z
LAST-MODIFIED:20241125T065443Z
SUMMARY:Priv arr kjelleren
DESCRIPTION:\n\nhttps://www.beroa.no/kalender/2024/12/01/priv-arr-kjelleren/3129/
END:VEVENT

END:VCALENDAR