BEGIN:VCALENDAR
VERSION:2.0
PRODID:-//mWEB//NONSGML mWEB//NB
URL:https://www.beroa.no/kalender/ics
X-WR-CALNAME:Berøa Langåker
REFRESH-INTERVAL;VALUE=DURATION:PT6H
X-PUBLISHED-TTL:PT6H    
CALSCALE:GREGORIAN
BEGIN:VEVENT
UID:beroa.no-3032
DTSTAMP:20260423T201129Z
DTSTART:20241201T100000Z
DTEND:20241201T113000Z
URL:https://www.beroa.no/kalender/2024/12/01/sondagsskule/3032/
CREATED:20240821T191211Z
LAST-MODIFIED:20240821T191212Z
SUMMARY:Søndagsskule
DESCRIPTION:\n\nhttps://www.beroa.no/kalender/2024/12/01/sondagsskule/3032/
END:VEVENT

END:VCALENDAR