BEGIN:VCALENDAR
VERSION:2.0
PRODID:-//mWEB//NONSGML mWEB//NB
URL:https://www.beroa.no/kalender/ics
X-WR-CALNAME:Berøa Langåker
REFRESH-INTERVAL;VALUE=DURATION:PT6H
X-PUBLISHED-TTL:PT6H    
CALSCALE:GREGORIAN
BEGIN:VEVENT
UID:beroa.no-3074
DTSTAMP:20260423T203357Z
DTSTART:20241205T183000Z
DTEND:20241205T200000Z
URL:https://www.beroa.no/kalender/2024/12/05/bibellesning/3074/
CREATED:20241020T153656Z
LAST-MODIFIED:20241020T153657Z
SUMMARY:Bibellesning
DESCRIPTION:\n\nhttps://www.beroa.no/kalender/2024/12/05/bibellesning/3074/
END:VEVENT

END:VCALENDAR