BEGIN:VCALENDAR
VERSION:2.0
PRODID:-//mWEB//NONSGML mWEB//NB
URL:https://www.beroa.no/kalender/ics
X-WR-CALNAME:Berøa Langåker
REFRESH-INTERVAL;VALUE=DURATION:PT6H
X-PUBLISHED-TTL:PT6H    
CALSCALE:GREGORIAN
BEGIN:VEVENT
UID:beroa.no-3174
DTSTAMP:20260423T201424Z
DTSTART:20241209T160000Z
DTEND:20241209T173000Z
URL:https://www.beroa.no/kalender/2024/12/09/mandagsklubben/3174/
CREATED:20250301T161623Z
LAST-MODIFIED:20250301T161623Z
SUMMARY:Mandagsklubben
DESCRIPTION:\n\nhttps://www.beroa.no/kalender/2024/12/09/mandagsklubben/3174/
END:VEVENT

END:VCALENDAR