BEGIN:VCALENDAR
VERSION:2.0
PRODID:-//mWEB//NONSGML mWEB//NB
URL:https://www.beroa.no/kalender/ics
X-WR-CALNAME:Berøa Langåker
REFRESH-INTERVAL;VALUE=DURATION:PT6H
X-PUBLISHED-TTL:PT6H    
CALSCALE:GREGORIAN
BEGIN:VEVENT
UID:beroa.no-3078
DTSTAMP:20260423T200902Z
DTSTART:20241215T100000Z
DTEND:20241215T113000Z
URL:https://www.beroa.no/kalender/2024/12/15/brodsbrytelse/3078/
CREATED:20241020T154141Z
LAST-MODIFIED:20241020T154142Z
SUMMARY:Brødsbrytelse
DESCRIPTION:\n\nhttps://www.beroa.no/kalender/2024/12/15/brodsbrytelse/3078/
END:VEVENT

END:VCALENDAR