BEGIN:VCALENDAR
VERSION:2.0
PRODID:-//mWEB//NONSGML mWEB//NB
URL:https://www.beroa.no/kalender/ics
X-WR-CALNAME:Berøa Langåker
REFRESH-INTERVAL;VALUE=DURATION:PT6H
X-PUBLISHED-TTL:PT6H    
CALSCALE:GREGORIAN
BEGIN:VEVENT
UID:beroa.no-3073
DTSTAMP:20260423T201324Z
DTSTART:20241217T183000Z
DTEND:20241217T200000Z
URL:https://www.beroa.no/kalender/2024/12/17/bonnesamling/3073/
CREATED:20241020T153615Z
LAST-MODIFIED:20241020T153616Z
SUMMARY:Bønnesamling
DESCRIPTION:\n\nhttps://www.beroa.no/kalender/2024/12/17/bonnesamling/3073/
END:VEVENT

END:VCALENDAR