BEGIN:VCALENDAR
VERSION:2.0
PRODID:-//mWEB//NONSGML mWEB//NB
URL:https://www.beroa.no/kalender/ics
X-WR-CALNAME:Berøa Langåker
REFRESH-INTERVAL;VALUE=DURATION:PT6H
X-PUBLISHED-TTL:PT6H    
CALSCALE:GREGORIAN
BEGIN:VEVENT
UID:beroa.no-3082
DTSTAMP:20260423T201734Z
DTSTART:20241221T180000Z
DTEND:20241221T193000Z
URL:https://www.beroa.no/kalender/2024/12/21/julekonsert-med-rose-og-duvald/3082/
CREATED:20241020T154454Z
LAST-MODIFIED:20241202T205555Z
SUMMARY:Julekonsert med Rose og Duvald
DESCRIPTION:\n\nhttps://www.beroa.no/kalender/2024/12/21/julekonsert-med-rose-og-duvald/3082/
END:VEVENT

END:VCALENDAR