BEGIN:VCALENDAR
VERSION:2.0
PRODID:-//mWEB//NONSGML mWEB//NB
URL:https://www.beroa.no/kalender/ics
X-WR-CALNAME:Berøa Langåker
REFRESH-INTERVAL;VALUE=DURATION:PT6H
X-PUBLISHED-TTL:PT6H    
CALSCALE:GREGORIAN
BEGIN:VEVENT
UID:beroa.no-3079
DTSTAMP:20260423T201522Z
DTSTART:20241221T230000Z
DTEND:20241222T225900Z
URL:https://www.beroa.no/kalender/2024/12/22/ikke-mote/3079/
CREATED:20241020T154216Z
LAST-MODIFIED:20241020T154217Z
SUMMARY:(Ikke møte)
DESCRIPTION:\n\nhttps://www.beroa.no/kalender/2024/12/22/ikke-mote/3079/
X-MICROSOFT-CDO-ALLDAYEVENT:TRUE
END:VEVENT

END:VCALENDAR