BEGIN:VCALENDAR
VERSION:2.0
PRODID:-//mWEB//NONSGML mWEB//NB
URL:https://www.beroa.no/kalender/ics
X-WR-CALNAME:Berøa Langåker
REFRESH-INTERVAL;VALUE=DURATION:PT6H
X-PUBLISHED-TTL:PT6H    
CALSCALE:GREGORIAN
BEGIN:VEVENT
UID:beroa.no-2961
DTSTAMP:20260423T202116Z
DTSTART:20241223T190000Z
DTEND:20241223T203000Z
URL:https://www.beroa.no/kalender/2024/12/23/ungdomsarr-kvelden-for-kvelden/2961/
CREATED:20240310T213453Z
LAST-MODIFIED:20240310T213453Z
SUMMARY:Ungdomsarr. "Kvelden før kvelden"
DESCRIPTION:\n\nhttps://www.beroa.no/kalender/2024/12/23/ungdomsarr-kvelden-for-kvelden/2961/
END:VEVENT

END:VCALENDAR