BEGIN:VCALENDAR
VERSION:2.0
PRODID:-//mWEB//NONSGML mWEB//NB
URL:https://www.beroa.no/kalender/ics
X-WR-CALNAME:Berøa Langåker
REFRESH-INTERVAL;VALUE=DURATION:PT6H
X-PUBLISHED-TTL:PT6H    
CALSCALE:GREGORIAN
BEGIN:VEVENT
UID:beroa.no-3080
DTSTAMP:20260423T202456Z
DTSTART:20241224T150000Z
DTEND:20241224T163000Z
URL:https://www.beroa.no/kalender/2024/12/24/julemote-andakt-av-svein-helge-bergfjord/3080/
CREATED:20241020T154239Z
LAST-MODIFIED:20241125T065647Z
SUMMARY:Julemøte. Andakt av Svein Helge Bergfjord
DESCRIPTION:\n\nhttps://www.beroa.no/kalender/2024/12/24/julemote-andakt-av-svein-helge-bergfjord/3080/
END:VEVENT

END:VCALENDAR