BEGIN:VCALENDAR
VERSION:2.0
PRODID:-//mWEB//NONSGML mWEB//NB
URL:https://www.beroa.no/kalender/ics
X-WR-CALNAME:Berøa Langåker
REFRESH-INTERVAL;VALUE=DURATION:PT6H
X-PUBLISHED-TTL:PT6H    
CALSCALE:GREGORIAN
BEGIN:VEVENT
UID:beroa.no-3081
DTSTAMP:20260423T202116Z
DTSTART:20241231T160000Z
DTEND:20241231T173000Z
URL:https://www.beroa.no/kalender/2024/12/31/nyttarsmote-tale-av-einar-sjoen/3081/
CREATED:20241020T154302Z
LAST-MODIFIED:20241029T165835Z
SUMMARY:Nyttårsmøte. Tale av Einar Sjøen.
DESCRIPTION:\n\nhttps://www.beroa.no/kalender/2024/12/31/nyttarsmote-tale-av-einar-sjoen/3081/
END:VEVENT

END:VCALENDAR