BEGIN:VCALENDAR
VERSION:2.0
PRODID:-//mWEB//NONSGML mWEB//NB
URL:https://www.beroa.no/kalender/ics
X-WR-CALNAME:Berøa Langåker
REFRESH-INTERVAL;VALUE=DURATION:PT6H
X-PUBLISHED-TTL:PT6H    
CALSCALE:GREGORIAN
BEGIN:VEVENT
UID:beroa.no-3086
DTSTAMP:20260423T165436Z
DTSTART:20250104T230000Z
DTEND:20250105T225900Z
URL:https://www.beroa.no/kalender/2025/01/05/ikke-mote/3086/
CREATED:20241029T165944Z
LAST-MODIFIED:20241029T165945Z
SUMMARY:(Ikke møte)
DESCRIPTION:\n\nhttps://www.beroa.no/kalender/2025/01/05/ikke-mote/3086/
X-MICROSOFT-CDO-ALLDAYEVENT:TRUE
END:VEVENT

END:VCALENDAR