BEGIN:VCALENDAR
VERSION:2.0
PRODID:-//mWEB//NONSGML mWEB//NB
URL:https://www.beroa.no/kalender/ics
X-WR-CALNAME:Berøa Langåker
REFRESH-INTERVAL;VALUE=DURATION:PT6H
X-PUBLISHED-TTL:PT6H    
CALSCALE:GREGORIAN
BEGIN:VEVENT
UID:beroa.no-3089
DTSTAMP:20260423T165907Z
DTSTART:20250107T183000Z
DTEND:20250107T200000Z
URL:https://www.beroa.no/kalender/2025/01/07/bonnesamling-hos-henry-langaker/3089/
CREATED:20241029T170301Z
LAST-MODIFIED:20250106T181300Z
SUMMARY:Bønnesamling hos Henry Langåker
DESCRIPTION:\n\nhttps://www.beroa.no/kalender/2025/01/07/bonnesamling-hos-henry-langaker/3089/
END:VEVENT

END:VCALENDAR