BEGIN:VCALENDAR
VERSION:2.0
PRODID:-//mWEB//NONSGML mWEB//NB
URL:https://www.beroa.no/kalender/ics
X-WR-CALNAME:Berøa Langåker
REFRESH-INTERVAL;VALUE=DURATION:PT6H
X-PUBLISHED-TTL:PT6H    
CALSCALE:GREGORIAN
BEGIN:VEVENT
UID:beroa.no-3113
DTSTAMP:20260423T170155Z
DTSTART:20250111T190000Z
DTEND:20250111T203000Z
URL:https://www.beroa.no/kalender/2025/01/11/acta-ungdomsmote-betania/3113/
CREATED:20241104T200106Z
LAST-MODIFIED:20241104T200106Z
SUMMARY:Acta (Ungdomsmøte Betania)
DESCRIPTION:\n\nhttps://www.beroa.no/kalender/2025/01/11/acta-ungdomsmote-betania/3113/
END:VEVENT

END:VCALENDAR