BEGIN:VCALENDAR
VERSION:2.0
PRODID:-//mWEB//NONSGML mWEB//NB
URL:https://www.beroa.no/kalender/ics
X-WR-CALNAME:Berøa Langåker
REFRESH-INTERVAL;VALUE=DURATION:PT6H
X-PUBLISHED-TTL:PT6H    
CALSCALE:GREGORIAN
BEGIN:VEVENT
UID:beroa.no-3090
DTSTAMP:20260423T163546Z
DTSTART:20250114T183000Z
DTEND:20250114T200000Z
URL:https://www.beroa.no/kalender/2025/01/14/bonnesamling/3090/
CREATED:20241029T170319Z
LAST-MODIFIED:20241029T170320Z
SUMMARY:Bønnesamling
DESCRIPTION:\n\nhttps://www.beroa.no/kalender/2025/01/14/bonnesamling/3090/
END:VEVENT

END:VCALENDAR