BEGIN:VCALENDAR
VERSION:2.0
PRODID:-//mWEB//NONSGML mWEB//NB
URL:https://www.beroa.no/kalender/ics
X-WR-CALNAME:Berøa Langåker
REFRESH-INTERVAL;VALUE=DURATION:PT6H
X-PUBLISHED-TTL:PT6H    
CALSCALE:GREGORIAN
BEGIN:VEVENT
UID:beroa.no-3131
DTSTAMP:20260423T170417Z
DTSTART:20250115T180000Z
DTEND:20250115T193000Z
URL:https://www.beroa.no/kalender/2025/01/15/arsmote-andakt-av-geir-brekka/3131/
CREATED:20250101T111200Z
LAST-MODIFIED:20250101T111200Z
SUMMARY:Årsmøte - Andakt av Geir Brekkå
DESCRIPTION:\n\nhttps://www.beroa.no/kalender/2025/01/15/arsmote-andakt-av-geir-brekka/3131/
END:VEVENT

END:VCALENDAR