BEGIN:VCALENDAR
VERSION:2.0
PRODID:-//mWEB//NONSGML mWEB//NB
URL:https://www.beroa.no/kalender/ics
X-WR-CALNAME:Berøa Langåker
REFRESH-INTERVAL;VALUE=DURATION:PT6H
X-PUBLISHED-TTL:PT6H    
CALSCALE:GREGORIAN
BEGIN:VEVENT
UID:beroa.no-2987
DTSTAMP:20260423T171014Z
DTSTART:20250117T183000Z
DTEND:20250117T200000Z
URL:https://www.beroa.no/kalender/2025/01/17/mote-med-allan-neset-og-ase-marit-hegland-sang-av-betel-musikklag/2987/
CREATED:20240523T155939Z
LAST-MODIFIED:20241029T170133Z
SUMMARY:Møte med Allan Neset og Åse Marit Hegland. Sang av Betel musikklag.
DESCRIPTION:\n\nhttps://www.beroa.no/kalender/2025/01/17/mote-med-allan-neset-og-ase-marit-hegland-sang-av-betel-musikklag/2987/
END:VEVENT

END:VCALENDAR