BEGIN:VCALENDAR
VERSION:2.0
PRODID:-//mWEB//NONSGML mWEB//NB
URL:https://www.beroa.no/kalender/ics
X-WR-CALNAME:Berøa Langåker
REFRESH-INTERVAL;VALUE=DURATION:PT6H
X-PUBLISHED-TTL:PT6H    
CALSCALE:GREGORIAN
BEGIN:VEVENT
UID:beroa.no-2966
DTSTAMP:20260423T165803Z
DTSTART:20250118T200000Z
DTEND:20250118T213000Z
URL:https://www.beroa.no/kalender/2025/01/18/felles-ungdomstreff-vea/2966/
CREATED:20240429T085410Z
LAST-MODIFIED:20240429T085410Z
SUMMARY:Felles ungdomstreff (Vea)
DESCRIPTION:\n\nhttps://www.beroa.no/kalender/2025/01/18/felles-ungdomstreff-vea/2966/
END:VEVENT

END:VCALENDAR