BEGIN:VCALENDAR
VERSION:2.0
PRODID:-//mWEB//NONSGML mWEB//NB
URL:https://www.beroa.no/kalender/ics
X-WR-CALNAME:Berøa Langåker
REFRESH-INTERVAL;VALUE=DURATION:PT6H
X-PUBLISHED-TTL:PT6H    
CALSCALE:GREGORIAN
BEGIN:VEVENT
UID:beroa.no-2988
DTSTAMP:20260423T170942Z
DTSTART:20250118T170000Z
DTEND:20250118T183000Z
URL:https://www.beroa.no/kalender/2025/01/18/lordagssamling-med-allan-neset-og-ase-marit-hegland-lovsangsteamet-blir-med/2988/
CREATED:20240523T155952Z
LAST-MODIFIED:20250112T211922Z
SUMMARY:Lørdagssamling med Allan Neset og Åse Marit Hegland - Lovsangsteamet blir med
DESCRIPTION:\n\nhttps://www.beroa.no/kalender/2025/01/18/lordagssamling-med-allan-neset-og-ase-marit-hegland-lovsangsteamet-blir-med/2988/
END:VEVENT

END:VCALENDAR