BEGIN:VCALENDAR
VERSION:2.0
PRODID:-//mWEB//NONSGML mWEB//NB
URL:https://www.beroa.no/kalender/ics
X-WR-CALNAME:Berøa Langåker
REFRESH-INTERVAL;VALUE=DURATION:PT6H
X-PUBLISHED-TTL:PT6H    
CALSCALE:GREGORIAN
BEGIN:VEVENT
UID:beroa.no-2989
DTSTAMP:20260423T170803Z
DTSTART:20250119T110000Z
DTEND:20250119T123000Z
URL:https://www.beroa.no/kalender/2025/01/19/mote-med-allan-neset-og-ase-marit-hegland-lovsangsteamet-blir-med/2989/
CREATED:20240523T160010Z
LAST-MODIFIED:20250112T211853Z
SUMMARY:Møte med Allan Neset og Åse Marit Hegland - Lovsangsteamet blir med
DESCRIPTION:\n\nhttps://www.beroa.no/kalender/2025/01/19/mote-med-allan-neset-og-ase-marit-hegland-lovsangsteamet-blir-med/2989/
END:VEVENT

END:VCALENDAR