BEGIN:VCALENDAR
VERSION:2.0
PRODID:-//mWEB//NONSGML mWEB//NB
URL:https://www.beroa.no/kalender/ics
X-WR-CALNAME:Berøa Langåker
REFRESH-INTERVAL;VALUE=DURATION:PT6H
X-PUBLISHED-TTL:PT6H    
CALSCALE:GREGORIAN
BEGIN:VEVENT
UID:beroa.no-3091
DTSTAMP:20260423T164841Z
DTSTART:20250121T183000Z
DTEND:20250121T200000Z
URL:https://www.beroa.no/kalender/2025/01/21/bonnesamling/3091/
CREATED:20241029T170339Z
LAST-MODIFIED:20241029T170340Z
SUMMARY:Bønnesamling
DESCRIPTION:\n\nhttps://www.beroa.no/kalender/2025/01/21/bonnesamling/3091/
END:VEVENT

END:VCALENDAR