BEGIN:VCALENDAR
VERSION:2.0
PRODID:-//mWEB//NONSGML mWEB//NB
URL:https://www.beroa.no/kalender/ics
X-WR-CALNAME:Berøa Langåker
REFRESH-INTERVAL;VALUE=DURATION:PT6H
X-PUBLISHED-TTL:PT6H    
CALSCALE:GREGORIAN
BEGIN:VEVENT
UID:beroa.no-3088
DTSTAMP:20260423T162814Z
DTSTART:20250126T183000Z
DTEND:20250126T200000Z
URL:https://www.beroa.no/kalender/2025/01/26/brodsbrytelse/3088/
CREATED:20241029T170210Z
LAST-MODIFIED:20241029T170211Z
SUMMARY:Brødsbrytelse
DESCRIPTION:\n\nhttps://www.beroa.no/kalender/2025/01/26/brodsbrytelse/3088/
END:VEVENT

END:VCALENDAR