BEGIN:VCALENDAR
VERSION:2.0
PRODID:-//mWEB//NONSGML mWEB//NB
URL:https://www.beroa.no/kalender/ics
X-WR-CALNAME:Berøa Langåker
REFRESH-INTERVAL;VALUE=DURATION:PT6H
X-PUBLISHED-TTL:PT6H    
CALSCALE:GREGORIAN
BEGIN:VEVENT
UID:beroa.no-3149
DTSTAMP:20260423T163310Z
DTSTART:20250126T100000Z
DTEND:20250126T113000Z
URL:https://www.beroa.no/kalender/2025/01/26/sondagsskule/3149/
CREATED:20250123T064950Z
LAST-MODIFIED:20250123T064952Z
SUMMARY:Søndagsskule
DESCRIPTION:\n\nhttps://www.beroa.no/kalender/2025/01/26/sondagsskule/3149/
END:VEVENT

END:VCALENDAR