BEGIN:VCALENDAR
VERSION:2.0
PRODID:-//mWEB//NONSGML mWEB//NB
URL:https://www.beroa.no/kalender/ics
X-WR-CALNAME:Berøa Langåker
REFRESH-INTERVAL;VALUE=DURATION:PT6H
X-PUBLISHED-TTL:PT6H    
CALSCALE:GREGORIAN
BEGIN:VEVENT
UID:beroa.no-2992
DTSTAMP:20260423T170314Z
DTSTART:20250131T183000Z
DTEND:20250131T200000Z
URL:https://www.beroa.no/kalender/2025/01/31/mote-tale-av-even-ydstebo-sang-av-ivan-underhaug/2992/
CREATED:20240523T160613Z
LAST-MODIFIED:20250106T182100Z
SUMMARY:Møte. Tale av Even Ydstebø. Sang av Ivan Underhaug.
DESCRIPTION:\n\nhttps://www.beroa.no/kalender/2025/01/31/mote-tale-av-even-ydstebo-sang-av-ivan-underhaug/2992/
END:VEVENT

END:VCALENDAR