BEGIN:VCALENDAR
VERSION:2.0
PRODID:-//mWEB//NONSGML mWEB//NB
URL:https://www.beroa.no/kalender/ics
X-WR-CALNAME:Berøa Langåker
REFRESH-INTERVAL;VALUE=DURATION:PT6H
X-PUBLISHED-TTL:PT6H    
CALSCALE:GREGORIAN
BEGIN:VEVENT
UID:beroa.no-3018
DTSTAMP:20260423T131610Z
DTSTART:20250201T200000Z
DTEND:20250201T213000Z
URL:https://www.beroa.no/kalender/2025/02/01/beroaung-ungdomsmote/3018/
CREATED:20240714T120017Z
LAST-MODIFIED:20241104T200927Z
SUMMARY:BerøaUng (Ungdomsmøte)
DESCRIPTION:\n\nhttps://www.beroa.no/kalender/2025/02/01/beroaung-ungdomsmote/3018/
END:VEVENT

END:VCALENDAR