BEGIN:VCALENDAR
VERSION:2.0
PRODID:-//mWEB//NONSGML mWEB//NB
URL:https://www.beroa.no/kalender/ics
X-WR-CALNAME:Berøa Langåker
REFRESH-INTERVAL;VALUE=DURATION:PT6H
X-PUBLISHED-TTL:PT6H    
CALSCALE:GREGORIAN
BEGIN:VEVENT
UID:beroa.no-3141
DTSTAMP:20260423T131343Z
DTSTART:20250207T170000Z
DTEND:20250207T183000Z
URL:https://www.beroa.no/kalender/2025/02/07/10-13-klubben/3141/
CREATED:20250122T194327Z
LAST-MODIFIED:20250122T194403Z
SUMMARY:10-13 klubben
DESCRIPTION:\n\nhttps://www.beroa.no/kalender/2025/02/07/10-13-klubben/3141/
END:VEVENT

END:VCALENDAR