BEGIN:VCALENDAR
VERSION:2.0
PRODID:-//mWEB//NONSGML mWEB//NB
URL:https://www.beroa.no/kalender/ics
X-WR-CALNAME:Berøa Langåker
REFRESH-INTERVAL;VALUE=DURATION:PT6H
X-PUBLISHED-TTL:PT6H    
CALSCALE:GREGORIAN
BEGIN:VEVENT
UID:beroa.no-3097
DTSTAMP:20260423T132556Z
DTSTART:20250209T183000Z
DTEND:20250209T200000Z
URL:https://www.beroa.no/kalender/2025/02/09/mote-med-godt-nytt-tale-av-rolf-jarl-sjoen-sang-av-olaug-og-tor-andre-johannesen-med-flere/3097/
CREATED:20241029T170718Z
LAST-MODIFIED:20241029T171004Z
SUMMARY:Møte med Godt Nytt. Tale av Rolf Jarl Sjøen. Sang av Olaug og Tor Andre Johannesen med flere.
DESCRIPTION:\n\nhttps://www.beroa.no/kalender/2025/02/09/mote-med-godt-nytt-tale-av-rolf-jarl-sjoen-sang-av-olaug-og-tor-andre-johannesen-med-flere/3097/
END:VEVENT

END:VCALENDAR