BEGIN:VCALENDAR
VERSION:2.0
PRODID:-//mWEB//NONSGML mWEB//NB
URL:https://www.beroa.no/kalender/ics
X-WR-CALNAME:Berøa Langåker
REFRESH-INTERVAL;VALUE=DURATION:PT6H
X-PUBLISHED-TTL:PT6H    
CALSCALE:GREGORIAN
BEGIN:VEVENT
UID:beroa.no-3139
DTSTAMP:20260423T131227Z
DTSTART:20250220T183000Z
DTEND:20250220T200000Z
URL:https://www.beroa.no/kalender/2025/02/20/bibellesning/3139/
CREATED:20250106T181653Z
LAST-MODIFIED:20250106T181655Z
SUMMARY:Bibellesning
DESCRIPTION:\n\nhttps://www.beroa.no/kalender/2025/02/20/bibellesning/3139/
END:VEVENT

END:VCALENDAR