BEGIN:VCALENDAR
VERSION:2.0
PRODID:-//mWEB//NONSGML mWEB//NB
URL:https://www.beroa.no/kalender/ics
X-WR-CALNAME:Berøa Langåker
REFRESH-INTERVAL;VALUE=DURATION:PT6H
X-PUBLISHED-TTL:PT6H    
CALSCALE:GREGORIAN
BEGIN:VEVENT
UID:beroa.no-3099
DTSTAMP:20260423T133526Z
DTSTART:20250223T110000Z
DTEND:20250223T123000Z
URL:https://www.beroa.no/kalender/2025/02/23/brodsbrytelse/3099/
CREATED:20241029T170901Z
LAST-MODIFIED:20250124T185249Z
SUMMARY:Brødsbrytelse
DESCRIPTION:\n\nhttps://www.beroa.no/kalender/2025/02/23/brodsbrytelse/3099/
END:VEVENT

END:VCALENDAR