BEGIN:VCALENDAR
VERSION:2.0
PRODID:-//mWEB//NONSGML mWEB//NB
URL:https://www.beroa.no/kalender/ics
X-WR-CALNAME:Berøa Langåker
REFRESH-INTERVAL;VALUE=DURATION:PT6H
X-PUBLISHED-TTL:PT6H    
CALSCALE:GREGORIAN
BEGIN:VEVENT
UID:beroa.no-3136
DTSTAMP:20260423T134640Z
DTSTART:20250225T183000Z
DTEND:20250225T200000Z
URL:https://www.beroa.no/kalender/2025/02/25/bonnesamling/3136/
CREATED:20250106T181524Z
LAST-MODIFIED:20250106T181525Z
SUMMARY:Bønnesamling
DESCRIPTION:\n\nhttps://www.beroa.no/kalender/2025/02/25/bonnesamling/3136/
END:VEVENT

END:VCALENDAR