BEGIN:VCALENDAR
VERSION:2.0
PRODID:-//mWEB//NONSGML mWEB//NB
URL:https://www.beroa.no/kalender/ics
X-WR-CALNAME:Berøa Langåker
REFRESH-INTERVAL;VALUE=DURATION:PT6H
X-PUBLISHED-TTL:PT6H    
CALSCALE:GREGORIAN
BEGIN:VEVENT
UID:beroa.no-3140
DTSTAMP:20260423T131223Z
DTSTART:20250227T183000Z
DTEND:20250227T200000Z
URL:https://www.beroa.no/kalender/2025/02/27/bibellesning/3140/
CREATED:20250106T181710Z
LAST-MODIFIED:20250106T181711Z
SUMMARY:Bibellesning
DESCRIPTION:\n\nhttps://www.beroa.no/kalender/2025/02/27/bibellesning/3140/
END:VEVENT

END:VCALENDAR