BEGIN:VCALENDAR
VERSION:2.0
PRODID:-//mWEB//NONSGML mWEB//NB
URL:https://www.beroa.no/kalender/ics
X-WR-CALNAME:Berøa Langåker
REFRESH-INTERVAL;VALUE=DURATION:PT6H
X-PUBLISHED-TTL:PT6H    
CALSCALE:GREGORIAN
BEGIN:VEVENT
UID:beroa.no-3103
DTSTAMP:20260423T100107Z
DTSTART:20250302T110000Z
DTEND:20250302T123000Z
URL:https://www.beroa.no/kalender/2025/03/02/mote-tale-av-lars-fladstad-barnevelsignelse-lovsangsteamet-blir-med/3103/
CREATED:20241029T171533Z
LAST-MODIFIED:20250220T070021Z
SUMMARY:Møte. Tale av Lars Fladstad. Barnevelsignelse. Lovsangsteamet blir med.
DESCRIPTION:\n\nhttps://www.beroa.no/kalender/2025/03/02/mote-tale-av-lars-fladstad-barnevelsignelse-lovsangsteamet-blir-med/3103/
END:VEVENT

END:VCALENDAR