BEGIN:VCALENDAR
VERSION:2.0
PRODID:-//mWEB//NONSGML mWEB//NB
URL:https://www.beroa.no/kalender/ics
X-WR-CALNAME:Berøa Langåker
REFRESH-INTERVAL;VALUE=DURATION:PT6H
X-PUBLISHED-TTL:PT6H    
CALSCALE:GREGORIAN
BEGIN:VEVENT
UID:beroa.no-3155
DTSTAMP:20260423T131711Z
DTSTART:20250304T183000Z
DTEND:20250304T200000Z
URL:https://www.beroa.no/kalender/2025/03/04/bonnesamling-hos-henry-langaker/3155/
CREATED:20250124T184827Z
LAST-MODIFIED:20250301T083040Z
SUMMARY:Bønnesamling (hos Henry Langåker)
DESCRIPTION:\n\nhttps://www.beroa.no/kalender/2025/03/04/bonnesamling-hos-henry-langaker/3155/
END:VEVENT

END:VCALENDAR